BEGIN:VCALENDAR
VERSION:2.0
PRODID:-//Atlanta - ECPv6.15.20//NONSGML v1.0//EN
CALSCALE:GREGORIAN
METHOD:PUBLISH
X-WR-CALNAME:Atlanta
X-ORIGINAL-URL:https://atlanta.cisvusa.org
X-WR-CALDESC:Events for Atlanta
REFRESH-INTERVAL;VALUE=DURATION:PT1H
X-Robots-Tag:noindex
X-PUBLISHED-TTL:PT1H
BEGIN:VTIMEZONE
TZID:America/New_York
BEGIN:DAYLIGHT
TZOFFSETFROM:-0500
TZOFFSETTO:-0400
TZNAME:EDT
DTSTART:20170312T070000
END:DAYLIGHT
BEGIN:STANDARD
TZOFFSETFROM:-0400
TZOFFSETTO:-0500
TZNAME:EST
DTSTART:20171105T060000
END:STANDARD
BEGIN:DAYLIGHT
TZOFFSETFROM:-0500
TZOFFSETTO:-0400
TZNAME:EDT
DTSTART:20180311T070000
END:DAYLIGHT
BEGIN:STANDARD
TZOFFSETFROM:-0400
TZOFFSETTO:-0500
TZNAME:EST
DTSTART:20181104T060000
END:STANDARD
BEGIN:DAYLIGHT
TZOFFSETFROM:-0500
TZOFFSETTO:-0400
TZNAME:EDT
DTSTART:20190310T070000
END:DAYLIGHT
BEGIN:STANDARD
TZOFFSETFROM:-0400
TZOFFSETTO:-0500
TZNAME:EST
DTSTART:20191103T060000
END:STANDARD
BEGIN:DAYLIGHT
TZOFFSETFROM:-0500
TZOFFSETTO:-0400
TZNAME:EDT
DTSTART:20200308T070000
END:DAYLIGHT
BEGIN:STANDARD
TZOFFSETFROM:-0400
TZOFFSETTO:-0500
TZNAME:EST
DTSTART:20201101T060000
END:STANDARD
BEGIN:DAYLIGHT
TZOFFSETFROM:-0500
TZOFFSETTO:-0400
TZNAME:EDT
DTSTART:20210314T070000
END:DAYLIGHT
BEGIN:STANDARD
TZOFFSETFROM:-0400
TZOFFSETTO:-0500
TZNAME:EST
DTSTART:20211107T060000
END:STANDARD
BEGIN:DAYLIGHT
TZOFFSETFROM:-0500
TZOFFSETTO:-0400
TZNAME:EDT
DTSTART:20220313T070000
END:DAYLIGHT
BEGIN:STANDARD
TZOFFSETFROM:-0400
TZOFFSETTO:-0500
TZNAME:EST
DTSTART:20221106T060000
END:STANDARD
BEGIN:DAYLIGHT
TZOFFSETFROM:-0500
TZOFFSETTO:-0400
TZNAME:EDT
DTSTART:20230312T070000
END:DAYLIGHT
BEGIN:STANDARD
TZOFFSETFROM:-0400
TZOFFSETTO:-0500
TZNAME:EST
DTSTART:20231105T060000
END:STANDARD
BEGIN:DAYLIGHT
TZOFFSETFROM:-0500
TZOFFSETTO:-0400
TZNAME:EDT
DTSTART:20240310T070000
END:DAYLIGHT
BEGIN:STANDARD
TZOFFSETFROM:-0400
TZOFFSETTO:-0500
TZNAME:EST
DTSTART:20241103T060000
END:STANDARD
BEGIN:DAYLIGHT
TZOFFSETFROM:-0500
TZOFFSETTO:-0400
TZNAME:EDT
DTSTART:20250309T070000
END:DAYLIGHT
BEGIN:STANDARD
TZOFFSETFROM:-0400
TZOFFSETTO:-0500
TZNAME:EST
DTSTART:20251102T060000
END:STANDARD
END:VTIMEZONE
BEGIN:VEVENT
DTSTART;TZID=America/New_York:20241201T113000
DTEND;TZID=America/New_York:20241201T133000
DTSTAMP:20260422T192103
CREATED:20241118T220057Z
LAST-MODIFIED:20241118T220057Z
UID:10000022-1733052600-1733059800@atlanta.cisvusa.org
SUMMARY:JB Reveal Party for  2025 and Bowling
DESCRIPTION:Come join us at:\nComet Pub & Lanes\, 1458 Church St suite E\, Decatur\, GA 30030\nLet’s have a fun time and to learn what programs are available for Summer 2025.
URL:https://atlanta.cisvusa.org/event/jb-reveal-party-for-2025-and-bowling/
LOCATION:Comet Pub & Lanes\, 1458 Church St suite E\, Decatur\, GA\, 30030\, United States
ORGANIZER;CN="Junior Branch - Local Junior Representative(s)":MAILTO:atlanta-jbpresident@cisvusa.org
END:VEVENT
BEGIN:VEVENT
DTSTART;TZID=America/New_York:20240505T080000
DTEND;TZID=America/New_York:20240505T170000
DTSTAMP:20260422T192103
CREATED:20230918T010108Z
LAST-MODIFIED:20230918T010124Z
UID:10000018-1714896000-1714928400@atlanta.cisvusa.org
SUMMARY:Volunteer Event (TBD)
DESCRIPTION:We are stil working on the details of this event.
URL:https://atlanta.cisvusa.org/event/volunteer-event-tbd/
ORGANIZER;CN="Junior Branch - Local Junior Representative(s)":MAILTO:atlanta-jbpresident@cisvusa.org
END:VEVENT
BEGIN:VEVENT
DTSTART;TZID=America/New_York:20240316T140000
DTEND;TZID=America/New_York:20240317T110000
DTSTAMP:20260422T192103
CREATED:20230918T005928Z
LAST-MODIFIED:20240216T152836Z
UID:10000017-1710597600-1710673200@atlanta.cisvusa.org
SUMMARY:2024 Atlanta Mini-Camp- UPDATE Event is cancelled
DESCRIPTION:What is Mini Camp? \nMini-Camps are a great way to prepare children and potential leaders for an international CISV experience. The Mini-Camp will provide an opportunity for current chapter members and those who are interested in CISV to participate in a three-day version of the village program. This program will satisfy many participant needs including those in “underserved” age groups due to program availability\, those who want to participate in a program but are not ready to be away for a long period of time\, or those who may not be able to participate in a longer program for financial reasons. This Mini-Camp will follow program guidelines similar to a Village. The program will also serve to further local and regional friendships among chapters.\n \nWhat is an ideal Mini Camp participant?\n\nAn ideal Mini Camp participant is someone who is cooperative in a group setting\, interested in others\, able to listen and share ideas\, and willing to participate in games and activities.\n\nMini Camp Information\n\nLocal Mini Camp – Lake Lanier Retreat Center\n3475 Cook Rd.\, Gainesville\, GA\nMarch 16 2024 2 pm – March 17 2024 11 am for Ages 10-25\nCost: $85 until Jan 19 2024  and $100 until Feb 9 2024\n\n\nmini camp site\n\nRegistration Form\n\n\n\n\n\n\n\nCamp Registration\n	Register By Jan 19 $85.00 USD\n	Register by Feb 9 $100.00 USD\n\n\n\n\n\n\n\n\n\n\nYouth Participant Forms Checklist\n\n\nMini Camp Registration Form (found above)\nPre camp will be shared at the beginning of March\nYouth Legal Form For participant\n\nAdult Chaperones Forms Checklist\n\n\n\nMini Camp Registration Form (found in PreCamp link above)\nAdult Legal Form Domestic\n\nAdult Driver Forms Checklist\n\n\n\nBackground Check Questionnaire & Authorization Form – each 18+ adult in house must have 1 / good for 2 years\nDriving History Report (MVR) – for last 3 years / must be age 25 or older to drive CISV participants / good for 1 year\nAuto Liability Coverage – Anyone driving others for the purposes of a CISV program must supply Chapter his/her current personal auto policy with bodily injury & property damage coverage of at least $100\,000 per accident (need declarations page\, insurance card will not suffice) / good for 6 months\n\n\n\n\n 
URL:https://atlanta.cisvusa.org/event/atlanta-mini-camp/
LOCATION:Lake Lanier Retreat Center\, 3475 Cook Rd.\, Gainesville\, GA\, United States
ORGANIZER;CN="Junior Branch - Local Junior Representative(s)":MAILTO:atlanta-jbpresident@cisvusa.org
END:VEVENT
BEGIN:VEVENT
DTSTART;TZID=America/New_York:20240128T140000
DTEND;TZID=America/New_York:20240128T163000
DTSTAMP:20260422T192104
CREATED:20230918T005750Z
LAST-MODIFIED:20240116T113053Z
UID:10000016-1706450400-1706459400@atlanta.cisvusa.org
SUMMARY:UPDATE: 2024 Program Selection Playdate at The Ron Clark Academy
DESCRIPTION:Instead of a movie night\, this day will be used to to interview both parents and prospective delegates for the upcoming Summer of 2024 programs. \nCome meet other CISV families \, as well as current board members. \nMore details on  location and exact time will be sent by our selection chair via email. \nPlease contact atlanta-selection@cisvusa.org for more information. \nEVENT LOCATION:\nThe Ron Clark Academy\n228 MArgaret St. SE\nAtlanta\, GA 30315\nDATE: SUNDAY\, JANUARY 28TH\nTIME: 2 – 4:30 PM
URL:https://atlanta.cisvusa.org/event/jb-movie-night/
ORGANIZER;CN="Junior Branch - Local Junior Representative(s)":MAILTO:atlanta-jbpresident@cisvusa.org
END:VEVENT
BEGIN:VEVENT
DTSTART;TZID=America/New_York:20231203T130000
DTEND;TZID=America/New_York:20231203T150000
DTSTAMP:20260422T192104
CREATED:20230918T005518Z
LAST-MODIFIED:20231203T183712Z
UID:10000015-1701608400-1701615600@atlanta.cisvusa.org
SUMMARY:JB Reveal Party @ Bowling
DESCRIPTION:Come join us at:\nComet Pub & Lanes\, 1458 Church St suite E\, Decatur\, GA 30030 \nFor a fun time and to learn what programs are available for Summer 2024
URL:https://atlanta.cisvusa.org/event/jb-reveal-party-bowling-1-3-pm/
ORGANIZER;CN="Junior Branch - Local Junior Representative(s)":MAILTO:atlanta-jbpresident@cisvusa.org
END:VEVENT
BEGIN:VEVENT
DTSTART;TZID=America/New_York:20180429T140000
DTEND;TZID=America/New_York:20180429T170000
DTSTAMP:20260422T192104
CREATED:20180422T070712Z
LAST-MODIFIED:20180422T071450Z
UID:10000005-1525010400-1525021200@atlanta.cisvusa.org
SUMMARY:Junior Branch - Popsicles in the Park
DESCRIPTION:Popsicles in the Park\nThe incredible Atlanta Junior Branch welcomes everyone to come and CISV-it-up at Avondale Park on Sunday\, April 29\, 2018\, from 2:00-5:00 pm. \n\n\nThere will be activities for youth and adults.\n\n\nAvondale Estates – Parks & Recreation Department \nhttps://avondaleestates.org/2347/Parks-Recreation
URL:https://atlanta.cisvusa.org/event/junior-branch-popsicles-in-the-park/
LOCATION:Avondale Park\, 57 Dartmouth Avenue\, Avondale Estates\, Georgia\, 30002
ORGANIZER;CN="Junior Branch - Local Junior Representative(s)":MAILTO:atlanta-jbpresident@cisvusa.org
GEO:33.7698954;-84.2694983
X-APPLE-STRUCTURED-LOCATION;VALUE=URI;X-ADDRESS=Avondale Park 57 Dartmouth Avenue Avondale Estates Georgia 30002;X-APPLE-RADIUS=500;X-TITLE=57 Dartmouth Avenue:geo:-84.2694983,33.7698954
END:VEVENT
END:VCALENDAR